BEGIN:VCALENDAR
VERSION:2.0
PRODID:-//Tukios.com/
BEGIN:VEVENT
UID:0b1c9812-d5b2-4f9c-a63f-ae79579bb08c@www.fraziersonfuneralhome.com
DTSTAMP:20260423T001237Z
DTSTART:20260424T220000Z
DTEND:20260425T000000Z
SUMMARY:Visitation
DESCRIPTION:
URL:https://www.fraziersonfuneralhome.com/obituaries/william-booker
LOCATION:Residence of Nikki Rhodes 317 Siloam Road  Abbeville GA 31001
GEO:31.9769127;-83.3501801
END:VEVENT
END:VCALENDAR